BEGIN:VCALENDAR
VERSION:2.0
PRODID:-//Sheffield Methodist Church - ECPv6.15.20//NONSGML v1.0//EN
CALSCALE:GREGORIAN
METHOD:PUBLISH
X-ORIGINAL-URL:https://sheffieldmethodist.com
X-WR-CALDESC:Events for Sheffield Methodist Church
REFRESH-INTERVAL;VALUE=DURATION:PT1H
X-Robots-Tag:noindex
X-PUBLISHED-TTL:PT1H
BEGIN:VTIMEZONE
TZID:America/Chicago
BEGIN:DAYLIGHT
TZOFFSETFROM:-0600
TZOFFSETTO:-0500
TZNAME:CDT
DTSTART:20240310T080000
END:DAYLIGHT
BEGIN:STANDARD
TZOFFSETFROM:-0500
TZOFFSETTO:-0600
TZNAME:CST
DTSTART:20241103T070000
END:STANDARD
BEGIN:DAYLIGHT
TZOFFSETFROM:-0600
TZOFFSETTO:-0500
TZNAME:CDT
DTSTART:20250309T080000
END:DAYLIGHT
BEGIN:STANDARD
TZOFFSETFROM:-0500
TZOFFSETTO:-0600
TZNAME:CST
DTSTART:20251102T070000
END:STANDARD
BEGIN:DAYLIGHT
TZOFFSETFROM:-0600
TZOFFSETTO:-0500
TZNAME:CDT
DTSTART:20260308T080000
END:DAYLIGHT
BEGIN:STANDARD
TZOFFSETFROM:-0500
TZOFFSETTO:-0600
TZNAME:CST
DTSTART:20261101T070000
END:STANDARD
END:VTIMEZONE
BEGIN:VEVENT
DTSTART;TZID=America/Chicago:20251207T100000
DTEND;TZID=America/Chicago:20251207T110000
DTSTAMP:20260423T154736
CREATED:20241121T205940Z
LAST-MODIFIED:20251031T131745Z
UID:1848-1765101600-1765105200@sheffieldmethodist.com
SUMMARY:Children's Christmas Program
DESCRIPTION:
URL:https://sheffieldmethodist.com/event/childrens-christmas-program/
END:VEVENT
BEGIN:VEVENT
DTSTART;TZID=America/Chicago:20251214T160000
DTEND;TZID=America/Chicago:20251214T170000
DTSTAMP:20260423T154736
CREATED:20251119T213421Z
LAST-MODIFIED:20251119T215253Z
UID:2097-1765728000-1765731600@sheffieldmethodist.com
SUMMARY:Christmas Cantata
DESCRIPTION:
URL:https://sheffieldmethodist.com/event/christmas-cantata/
END:VEVENT
BEGIN:VEVENT
DTSTART;TZID=America/Chicago:20251225T000000
DTEND;TZID=America/Chicago:20251225T235959
DTSTAMP:20260423T154736
CREATED:20250926T001756Z
LAST-MODIFIED:20250926T001805Z
UID:2079-1766620800-1766707199@sheffieldmethodist.com
SUMMARY:Merry Christmas!
DESCRIPTION:
URL:https://sheffieldmethodist.com/event/merry-christmas/
END:VEVENT
END:VCALENDAR