BEGIN:VCALENDAR
VERSION:2.0
PRODID:-//Sheffield Methodist Church - ECPv6.15.20//NONSGML v1.0//EN
CALSCALE:GREGORIAN
METHOD:PUBLISH
X-WR-CALNAME:Sheffield Methodist Church
X-ORIGINAL-URL:https://sheffieldmethodist.com
X-WR-CALDESC:Events for Sheffield Methodist Church
REFRESH-INTERVAL;VALUE=DURATION:PT1H
X-Robots-Tag:noindex
X-PUBLISHED-TTL:PT1H
BEGIN:VTIMEZONE
TZID:America/Chicago
BEGIN:DAYLIGHT
TZOFFSETFROM:-0600
TZOFFSETTO:-0500
TZNAME:CDT
DTSTART:20210314T080000
END:DAYLIGHT
BEGIN:STANDARD
TZOFFSETFROM:-0500
TZOFFSETTO:-0600
TZNAME:CST
DTSTART:20211107T070000
END:STANDARD
BEGIN:DAYLIGHT
TZOFFSETFROM:-0600
TZOFFSETTO:-0500
TZNAME:CDT
DTSTART:20220313T080000
END:DAYLIGHT
BEGIN:STANDARD
TZOFFSETFROM:-0500
TZOFFSETTO:-0600
TZNAME:CST
DTSTART:20221106T070000
END:STANDARD
BEGIN:DAYLIGHT
TZOFFSETFROM:-0600
TZOFFSETTO:-0500
TZNAME:CDT
DTSTART:20230312T080000
END:DAYLIGHT
BEGIN:STANDARD
TZOFFSETFROM:-0500
TZOFFSETTO:-0600
TZNAME:CST
DTSTART:20231105T070000
END:STANDARD
END:VTIMEZONE
BEGIN:VEVENT
DTSTART;TZID=America/Chicago:20221110T100000
DTEND;TZID=America/Chicago:20221110T120000
DTSTAMP:20260425T075132
CREATED:20220901T184948Z
LAST-MODIFIED:20221117T204251Z
UID:533-1668074400-1668081600@sheffieldmethodist.com
SUMMARY:Precept Bible Study (Zoom)
DESCRIPTION:
URL:https://sheffieldmethodist.com/event/precept-bible-study-acts-2/
END:VEVENT
BEGIN:VEVENT
DTSTART;TZID=America/Chicago:20221108T103000
DTEND;TZID=America/Chicago:20221108T120000
DTSTAMP:20260425T075132
CREATED:20221002T203709Z
LAST-MODIFIED:20221117T204339Z
UID:884-1667903400-1667908800@sheffieldmethodist.com
SUMMARY:Precept Bible Study
DESCRIPTION:
URL:https://sheffieldmethodist.com/event/precept-bible-study-2/
END:VEVENT
BEGIN:VEVENT
DTSTART;TZID=America/Chicago:20221105T220000
DTEND;TZID=America/Chicago:20221105T220000
DTSTAMP:20260425T075132
CREATED:20221028T234433Z
LAST-MODIFIED:20221028T234554Z
UID:997-1667685600-1667685600@sheffieldmethodist.com
SUMMARY:Turn Clocks Back
DESCRIPTION:
URL:https://sheffieldmethodist.com/event/turn-clocks-back/
END:VEVENT
BEGIN:VEVENT
DTSTART;TZID=America/Chicago:20221103T100000
DTEND;TZID=America/Chicago:20221103T120000
DTSTAMP:20260425T075132
CREATED:20220901T184926Z
LAST-MODIFIED:20221117T204238Z
UID:531-1667469600-1667476800@sheffieldmethodist.com
SUMMARY:Precept Bible Study (Zoom)
DESCRIPTION:
URL:https://sheffieldmethodist.com/event/precept-bible-study-acts/
END:VEVENT
BEGIN:VEVENT
DTSTART;TZID=America/Chicago:20221101T103000
DTEND;TZID=America/Chicago:20221101T120000
DTSTAMP:20260425T075132
CREATED:20221002T203650Z
LAST-MODIFIED:20221117T204331Z
UID:882-1667298600-1667304000@sheffieldmethodist.com
SUMMARY:Precept Bible Study
DESCRIPTION:
URL:https://sheffieldmethodist.com/event/precept-bible-study/
END:VEVENT
BEGIN:VEVENT
DTSTART;TZID=America/Chicago:20221023T130000
DTEND;TZID=America/Chicago:20221023T150000
DTSTAMP:20260425T075132
CREATED:20221013T184439Z
LAST-MODIFIED:20221013T184441Z
UID:983-1666530000-1666537200@sheffieldmethodist.com
SUMMARY:Pumpkin Patch
DESCRIPTION:
URL:https://sheffieldmethodist.com/event/pumpkin-patch/
END:VEVENT
BEGIN:VEVENT
DTSTART;TZID=America/Chicago:20221022T100000
DTEND;TZID=America/Chicago:20221022T150000
DTSTAMP:20260425T075132
CREATED:20221002T205230Z
LAST-MODIFIED:20221002T205232Z
UID:930-1666432800-1666450800@sheffieldmethodist.com
SUMMARY:Clearbranch / Traditional Gathering
DESCRIPTION:
URL:https://sheffieldmethodist.com/event/clearbranch-traditional-gathering/
END:VEVENT
BEGIN:VEVENT
DTSTART;TZID=America/Chicago:20221020T120000
DTEND;TZID=America/Chicago:20221020T130000
DTSTAMP:20260425T075132
CREATED:20221005T200336Z
LAST-MODIFIED:20221005T200339Z
UID:935-1666267200-1666270800@sheffieldmethodist.com
SUMMARY:Emmaus Lunch Bunch
DESCRIPTION:
URL:https://sheffieldmethodist.com/event/emmaus-lunch-bunch/
END:VEVENT
BEGIN:VEVENT
DTSTART;TZID=America/Chicago:20221009T183000
DTEND;TZID=America/Chicago:20221009T193000
DTSTAMP:20260425T075132
CREATED:20221006T155731Z
LAST-MODIFIED:20221006T155733Z
UID:945-1665340200-1665343800@sheffieldmethodist.com
SUMMARY:Youth @ Derrick's Home
DESCRIPTION:
URL:https://sheffieldmethodist.com/event/youth-derricks-home/
END:VEVENT
BEGIN:VEVENT
DTSTART;TZID=America/Chicago:20221009T170000
DTEND;TZID=America/Chicago:20221009T180000
DTSTAMP:20260425T075132
CREATED:20221006T155634Z
LAST-MODIFIED:20221006T155636Z
UID:943-1665334800-1665338400@sheffieldmethodist.com
SUMMARY:Administrative Council
DESCRIPTION:
URL:https://sheffieldmethodist.com/event/administrative-council/
END:VEVENT
BEGIN:VEVENT
DTSTART;TZID=America/Chicago:20221006T120000
DTEND;TZID=America/Chicago:20221006T130000
DTSTAMP:20260425T075132
CREATED:20221002T205024Z
LAST-MODIFIED:20221005T200405Z
UID:926-1665057600-1665061200@sheffieldmethodist.com
SUMMARY:Emmaus Lunch Bunch
DESCRIPTION:
URL:https://sheffieldmethodist.com/event/lunch-bunch/
END:VEVENT
BEGIN:VEVENT
DTSTART;TZID=America/Chicago:20221006T100000
DTEND;TZID=America/Chicago:20221006T120000
DTSTAMP:20260425T075132
CREATED:20220901T185030Z
LAST-MODIFIED:20221002T204758Z
UID:537-1665050400-1665057600@sheffieldmethodist.com
SUMMARY:Precept Bible Study (Zoom)
DESCRIPTION:
URL:https://sheffieldmethodist.com/event/precept-bible-study-acts-4/
END:VEVENT
BEGIN:VEVENT
DTSTART;TZID=America/Chicago:20221005T183000
DTEND;TZID=America/Chicago:20221005T200000
DTSTAMP:20260425T075132
CREATED:20221002T204418Z
LAST-MODIFIED:20221002T204501Z
UID:907-1664994600-1665000000@sheffieldmethodist.com
SUMMARY:Global Church / Athens
DESCRIPTION:
URL:https://sheffieldmethodist.com/event/global-church-athens/
END:VEVENT
BEGIN:VEVENT
DTSTART;TZID=America/Chicago:20221004T110000
DTEND;TZID=America/Chicago:20221004T120000
DTSTAMP:20260425T075132
CREATED:20221002T204220Z
LAST-MODIFIED:20221002T204306Z
UID:905-1664881200-1664884800@sheffieldmethodist.com
SUMMARY:UMW
DESCRIPTION:
URL:https://sheffieldmethodist.com/event/umw/
END:VEVENT
BEGIN:VEVENT
DTSTART;TZID=America/Chicago:20220911T053000
DTEND;TZID=America/Chicago:20220911T183000
DTSTAMP:20260425T075132
CREATED:20220911T170242Z
LAST-MODIFIED:20220911T170243Z
UID:813-1662874200-1662921000@sheffieldmethodist.com
SUMMARY:Church-wide Discernment Meeting
DESCRIPTION:
URL:https://sheffieldmethodist.com/event/church-wide-discernment-meeting/
END:VEVENT
END:VCALENDAR