BEGIN:VCALENDAR
VERSION:2.0
PRODID:-//Sheffield Methodist Church - ECPv6.15.20//NONSGML v1.0//EN
CALSCALE:GREGORIAN
METHOD:PUBLISH
X-WR-CALNAME:Sheffield Methodist Church
X-ORIGINAL-URL:https://sheffieldmethodist.com
X-WR-CALDESC:Events for Sheffield Methodist Church
REFRESH-INTERVAL;VALUE=DURATION:PT1H
X-Robots-Tag:noindex
X-PUBLISHED-TTL:PT1H
BEGIN:VTIMEZONE
TZID:America/Chicago
BEGIN:DAYLIGHT
TZOFFSETFROM:-0600
TZOFFSETTO:-0500
TZNAME:CDT
DTSTART:20210314T080000
END:DAYLIGHT
BEGIN:STANDARD
TZOFFSETFROM:-0500
TZOFFSETTO:-0600
TZNAME:CST
DTSTART:20211107T070000
END:STANDARD
BEGIN:DAYLIGHT
TZOFFSETFROM:-0600
TZOFFSETTO:-0500
TZNAME:CDT
DTSTART:20220313T080000
END:DAYLIGHT
BEGIN:STANDARD
TZOFFSETFROM:-0500
TZOFFSETTO:-0600
TZNAME:CST
DTSTART:20221106T070000
END:STANDARD
BEGIN:DAYLIGHT
TZOFFSETFROM:-0600
TZOFFSETTO:-0500
TZNAME:CDT
DTSTART:20230312T080000
END:DAYLIGHT
BEGIN:STANDARD
TZOFFSETFROM:-0500
TZOFFSETTO:-0600
TZNAME:CST
DTSTART:20231105T070000
END:STANDARD
BEGIN:DAYLIGHT
TZOFFSETFROM:-0600
TZOFFSETTO:-0500
TZNAME:CDT
DTSTART:20240310T080000
END:DAYLIGHT
BEGIN:STANDARD
TZOFFSETFROM:-0500
TZOFFSETTO:-0600
TZNAME:CST
DTSTART:20241103T070000
END:STANDARD
BEGIN:DAYLIGHT
TZOFFSETFROM:-0600
TZOFFSETTO:-0500
TZNAME:CDT
DTSTART:20250309T080000
END:DAYLIGHT
BEGIN:STANDARD
TZOFFSETFROM:-0500
TZOFFSETTO:-0600
TZNAME:CST
DTSTART:20251102T070000
END:STANDARD
END:VTIMEZONE
BEGIN:VEVENT
DTSTART;TZID=America/Chicago:20240703T173000
DTEND;TZID=America/Chicago:20240703T190000
DTSTAMP:20260423T190206
CREATED:20240606T203029Z
LAST-MODIFIED:20240606T203031Z
UID:1691-1720027800-1720033200@sheffieldmethodist.com
SUMMARY:Kids' Slime Zone
DESCRIPTION:
URL:https://sheffieldmethodist.com/event/kids-slime-zone-5/
END:VEVENT
BEGIN:VEVENT
DTSTART;TZID=America/Chicago:20240626T173000
DTEND;TZID=America/Chicago:20240626T190000
DTSTAMP:20260423T190206
CREATED:20240606T202954Z
LAST-MODIFIED:20240606T202956Z
UID:1689-1719423000-1719428400@sheffieldmethodist.com
SUMMARY:Kids' Slime Zone
DESCRIPTION:
URL:https://sheffieldmethodist.com/event/kids-slime-zone-4/
END:VEVENT
BEGIN:VEVENT
DTSTART;TZID=America/Chicago:20240619T173000
DTEND;TZID=America/Chicago:20240619T190000
DTSTAMP:20260423T190206
CREATED:20240606T202928Z
LAST-MODIFIED:20240606T202930Z
UID:1687-1718818200-1718823600@sheffieldmethodist.com
SUMMARY:Kids' Slime Zone
DESCRIPTION:
URL:https://sheffieldmethodist.com/event/kids-slime-zone-3/
END:VEVENT
BEGIN:VEVENT
DTSTART;TZID=America/Chicago:20240616T000000
DTEND;TZID=America/Chicago:20240616T235959
DTSTAMP:20260423T190206
CREATED:20240613T221707Z
LAST-MODIFIED:20240613T221708Z
UID:1712-1718496000-1718582399@sheffieldmethodist.com
SUMMARY:Happy Fathers' Day!
DESCRIPTION:
URL:https://sheffieldmethodist.com/event/happy-fathers-day/
END:VEVENT
BEGIN:VEVENT
DTSTART;TZID=America/Chicago:20240612T173000
DTEND;TZID=America/Chicago:20240612T190000
DTSTAMP:20260423T190206
CREATED:20240606T202800Z
LAST-MODIFIED:20240606T202802Z
UID:1685-1718213400-1718218800@sheffieldmethodist.com
SUMMARY:Kids' Slime Zone
DESCRIPTION:
URL:https://sheffieldmethodist.com/event/kids-slime-zone-2/
END:VEVENT
BEGIN:VEVENT
DTSTART;TZID=America/Chicago:20240605T173000
DTEND;TZID=America/Chicago:20240605T190000
DTSTAMP:20260423T190206
CREATED:20240606T202702Z
LAST-MODIFIED:20240606T202845Z
UID:1683-1717608600-1717614000@sheffieldmethodist.com
SUMMARY:Kids' Slime Zone
DESCRIPTION:
URL:https://sheffieldmethodist.com/event/kids-slime-zone/
END:VEVENT
BEGIN:VEVENT
DTSTART;TZID=America/Chicago:20240519T000000
DTEND;TZID=America/Chicago:20240519T235959
DTSTAMP:20260423T190206
CREATED:20240502T180205Z
LAST-MODIFIED:20240502T180206Z
UID:1658-1716076800-1716163199@sheffieldmethodist.com
SUMMARY:Promotion Lunch - Aloha Day
DESCRIPTION:
URL:https://sheffieldmethodist.com/event/promotion-lunch-aloha-day/
END:VEVENT
BEGIN:VEVENT
DTSTART;TZID=America/Chicago:20240327T180000
DTEND;TZID=America/Chicago:20240327T190000
DTSTAMP:20260423T190206
CREATED:20240321T192013Z
LAST-MODIFIED:20240321T192015Z
UID:1572-1711562400-1711566000@sheffieldmethodist.com
SUMMARY:Holy Week Service
DESCRIPTION:
URL:https://sheffieldmethodist.com/event/holy-week-service/
END:VEVENT
BEGIN:VEVENT
DTSTART;TZID=America/Chicago:20240310T140000
DTEND;TZID=America/Chicago:20240310T170000
DTSTAMP:20260423T190206
CREATED:20231229T190949Z
LAST-MODIFIED:20240301T140244Z
UID:1448-1710079200-1710090000@sheffieldmethodist.com
SUMMARY:Membership Class (registration required)
DESCRIPTION:
URL:https://sheffieldmethodist.com/event/membership-class-registration-required-3/
END:VEVENT
BEGIN:VEVENT
DTSTART;TZID=America/Chicago:20240204T110000
DTEND;TZID=America/Chicago:20240204T143000
DTSTAMP:20260423T190206
CREATED:20231229T190836Z
LAST-MODIFIED:20240125T205848Z
UID:1444-1707044400-1707057000@sheffieldmethodist.com
SUMMARY:Membership Class (registration required)
DESCRIPTION:
URL:https://sheffieldmethodist.com/event/membership-class-registration-required/
END:VEVENT
BEGIN:VEVENT
DTSTART;TZID=America/Chicago:20240124T090000
DTEND;TZID=America/Chicago:20240124T120000
DTSTAMP:20260423T190206
CREATED:20231229T190919Z
LAST-MODIFIED:20231229T190920Z
UID:1446-1706086800-1706097600@sheffieldmethodist.com
SUMMARY:Membership Class (registration required)
DESCRIPTION:
URL:https://sheffieldmethodist.com/event/membership-class-registration-required-2/
END:VEVENT
BEGIN:VEVENT
DTSTART;TZID=America/Chicago:20231022T140000
DTEND;TZID=America/Chicago:20231022T160000
DTSTAMP:20260423T190206
CREATED:20231004T191000Z
LAST-MODIFIED:20231004T191001Z
UID:1386-1697983200-1697990400@sheffieldmethodist.com
SUMMARY:Harvest Hoedown
DESCRIPTION:
URL:https://sheffieldmethodist.com/event/harvest-hoedown-2/
END:VEVENT
BEGIN:VEVENT
DTSTART;TZID=America/Chicago:20230529T000000
DTEND;TZID=America/Chicago:20230529T235959
DTSTAMP:20260423T190206
CREATED:20230501T175011Z
LAST-MODIFIED:20230501T175039Z
UID:1274-1685318400-1685404799@sheffieldmethodist.com
SUMMARY:Memorial Day
DESCRIPTION:
URL:https://sheffieldmethodist.com/event/memorial-day/
END:VEVENT
BEGIN:VEVENT
DTSTART;TZID=America/Chicago:20230408T100000
DTEND;TZID=America/Chicago:20230408T120000
DTSTAMP:20260423T190206
CREATED:20230405T125801Z
LAST-MODIFIED:20230405T125810Z
UID:1243-1680948000-1680955200@sheffieldmethodist.com
SUMMARY:Easter Egg Hunt
DESCRIPTION:
URL:https://sheffieldmethodist.com/event/easter-egg-hung/
END:VEVENT
BEGIN:VEVENT
DTSTART;TZID=America/Chicago:20230407T000000
DTEND;TZID=America/Chicago:20230407T235959
DTSTAMP:20260423T190206
CREATED:20230405T124949Z
LAST-MODIFIED:20230405T124952Z
UID:1230-1680825600-1680911999@sheffieldmethodist.com
SUMMARY:Good Friday
DESCRIPTION:
URL:https://sheffieldmethodist.com/event/good-friday/
END:VEVENT
BEGIN:VEVENT
DTSTART;TZID=America/Chicago:20230406T180000
DTEND;TZID=America/Chicago:20230406T190000
DTSTAMP:20260423T190206
CREATED:20230405T125712Z
LAST-MODIFIED:20230405T125714Z
UID:1241-1680804000-1680807600@sheffieldmethodist.com
SUMMARY:Maundy Thursday Service
DESCRIPTION:
URL:https://sheffieldmethodist.com/event/maundy-thursday-service/
END:VEVENT
BEGIN:VEVENT
DTSTART;TZID=America/Chicago:20230319T110000
DTEND;TZID=America/Chicago:20230319T120000
DTSTAMP:20260423T190206
CREATED:20230216T211309Z
LAST-MODIFIED:20230216T211314Z
UID:1163-1679223600-1679227200@sheffieldmethodist.com
SUMMARY:Lunch/Safe Sanctuary Training
DESCRIPTION:
URL:https://sheffieldmethodist.com/event/lunch-safe-sanctuary-training/
END:VEVENT
BEGIN:VEVENT
DTSTART;TZID=America/Chicago:20230317T100000
DTEND;TZID=America/Chicago:20230317T120000
DTSTAMP:20260423T190206
CREATED:20230216T211359Z
LAST-MODIFIED:20230216T211401Z
UID:1165-1679047200-1679054400@sheffieldmethodist.com
SUMMARY:Easter Egg Hunt
DESCRIPTION:
URL:https://sheffieldmethodist.com/event/easter-egg-hunt/
END:VEVENT
BEGIN:VEVENT
DTSTART;TZID=America/Chicago:20230101T090000
DTEND;TZID=America/Chicago:20230101T100000
DTSTAMP:20260423T190206
CREATED:20221219T140152Z
LAST-MODIFIED:20221219T140153Z
UID:1071-1672563600-1672567200@sheffieldmethodist.com
SUMMARY:New Years Breakfast
DESCRIPTION:
URL:https://sheffieldmethodist.com/event/new-years-breakfast/
END:VEVENT
BEGIN:VEVENT
DTSTART;TZID=America/Chicago:20221225T100000
DTEND;TZID=America/Chicago:20221225T110000
DTSTAMP:20260423T190206
CREATED:20221219T140031Z
LAST-MODIFIED:20221219T140032Z
UID:1069-1671962400-1671966000@sheffieldmethodist.com
SUMMARY:Christmas Service
DESCRIPTION:
URL:https://sheffieldmethodist.com/event/christmas-service/
END:VEVENT
BEGIN:VEVENT
DTSTART;TZID=America/Chicago:20221224T173000
DTEND;TZID=America/Chicago:20221224T183000
DTSTAMP:20260423T190206
CREATED:20221219T135943Z
LAST-MODIFIED:20221219T135945Z
UID:1067-1671903000-1671906600@sheffieldmethodist.com
SUMMARY:Christmas Eve Service
DESCRIPTION:
URL:https://sheffieldmethodist.com/event/christmas-eve-service/
END:VEVENT
BEGIN:VEVENT
DTSTART;TZID=America/Chicago:20221129T103000
DTEND;TZID=America/Chicago:20221129T120000
DTSTAMP:20260423T190206
CREATED:20221117T204536Z
LAST-MODIFIED:20221117T204537Z
UID:1032-1669717800-1669723200@sheffieldmethodist.com
SUMMARY:Precept Bible Study
DESCRIPTION:
URL:https://sheffieldmethodist.com/event/precept-bible-study-5/
END:VEVENT
BEGIN:VEVENT
DTSTART;TZID=America/Chicago:20221127T150000
DTEND;TZID=America/Chicago:20221127T170000
DTSTAMP:20260423T190206
CREATED:20221028T234903Z
LAST-MODIFIED:20221028T234904Z
UID:1005-1669561200-1669568400@sheffieldmethodist.com
SUMMARY:Decorate for Christmas
DESCRIPTION:
URL:https://sheffieldmethodist.com/event/decorate-for-christmas/
END:VEVENT
BEGIN:VEVENT
DTSTART;TZID=America/Chicago:20221123T000000
DTEND;TZID=America/Chicago:20221123T235959
DTSTAMP:20260423T190206
CREATED:20221117T203151Z
LAST-MODIFIED:20221117T204038Z
UID:1025-1669161600-1669247999@sheffieldmethodist.com
SUMMARY:No Evening Activities
DESCRIPTION:
URL:https://sheffieldmethodist.com/event/no-evening-activities/
END:VEVENT
BEGIN:VEVENT
DTSTART;TZID=America/Chicago:20221122T103000
DTEND;TZID=America/Chicago:20221122T120000
DTSTAMP:20260423T190206
CREATED:20221002T203749Z
LAST-MODIFIED:20221117T204404Z
UID:888-1669113000-1669118400@sheffieldmethodist.com
SUMMARY:Precept Bible Study
DESCRIPTION:
URL:https://sheffieldmethodist.com/event/precept-bible-study-4/
END:VEVENT
BEGIN:VEVENT
DTSTART;TZID=America/Chicago:20221119T090000
DTEND;TZID=America/Chicago:20221119T140000
DTSTAMP:20260423T190206
CREATED:20221028T234752Z
LAST-MODIFIED:20221028T234753Z
UID:1001-1668848400-1668866400@sheffieldmethodist.com
SUMMARY:Ladies' Bazaar
DESCRIPTION:
URL:https://sheffieldmethodist.com/event/ladies-bazaar/
END:VEVENT
BEGIN:VEVENT
DTSTART;TZID=America/Chicago:20221117T100000
DTEND;TZID=America/Chicago:20221117T120000
DTSTAMP:20260423T190206
CREATED:20220901T185009Z
LAST-MODIFIED:20221117T204304Z
UID:535-1668679200-1668686400@sheffieldmethodist.com
SUMMARY:Precept Bible Study (Zoom)
DESCRIPTION:
URL:https://sheffieldmethodist.com/event/precept-bible-study-acts-3/
END:VEVENT
BEGIN:VEVENT
DTSTART;TZID=America/Chicago:20221116T180000
DTEND;TZID=America/Chicago:20221116T190000
DTSTAMP:20260423T190206
CREATED:20221028T234706Z
LAST-MODIFIED:20221028T234707Z
UID:999-1668621600-1668625200@sheffieldmethodist.com
SUMMARY:Church Council & Discernment Meeting
DESCRIPTION:
URL:https://sheffieldmethodist.com/event/church-council-discernment-meeting/
END:VEVENT
BEGIN:VEVENT
DTSTART;TZID=America/Chicago:20221115T103000
DTEND;TZID=America/Chicago:20221115T120000
DTSTAMP:20260423T190206
CREATED:20221002T203730Z
LAST-MODIFIED:20221117T204351Z
UID:886-1668508200-1668513600@sheffieldmethodist.com
SUMMARY:Precept Bible Study
DESCRIPTION:
URL:https://sheffieldmethodist.com/event/precept-bible-study-3/
END:VEVENT
BEGIN:VEVENT
DTSTART;TZID=America/Chicago:20221114T190000
DTEND;TZID=America/Chicago:20221114T200000
DTSTAMP:20260423T190206
CREATED:20220902T125720Z
LAST-MODIFIED:20220902T125722Z
UID:546-1668452400-1668456000@sheffieldmethodist.com
SUMMARY:Discernment Vote
DESCRIPTION:
URL:https://sheffieldmethodist.com/event/discernment-vote/
END:VEVENT
END:VCALENDAR