BEGIN:VCALENDAR
VERSION:2.0
PRODID:-//Sheffield Methodist Church - ECPv6.15.20//NONSGML v1.0//EN
CALSCALE:GREGORIAN
METHOD:PUBLISH
X-WR-CALNAME:Sheffield Methodist Church
X-ORIGINAL-URL:https://sheffieldmethodist.com
X-WR-CALDESC:Events for Sheffield Methodist Church
REFRESH-INTERVAL;VALUE=DURATION:PT1H
X-Robots-Tag:noindex
X-PUBLISHED-TTL:PT1H
BEGIN:VTIMEZONE
TZID:America/Chicago
BEGIN:DAYLIGHT
TZOFFSETFROM:-0600
TZOFFSETTO:-0500
TZNAME:CDT
DTSTART:20250309T080000
END:DAYLIGHT
BEGIN:STANDARD
TZOFFSETFROM:-0500
TZOFFSETTO:-0600
TZNAME:CST
DTSTART:20251102T070000
END:STANDARD
BEGIN:DAYLIGHT
TZOFFSETFROM:-0600
TZOFFSETTO:-0500
TZNAME:CDT
DTSTART:20260308T080000
END:DAYLIGHT
BEGIN:STANDARD
TZOFFSETFROM:-0500
TZOFFSETTO:-0600
TZNAME:CST
DTSTART:20261101T070000
END:STANDARD
BEGIN:DAYLIGHT
TZOFFSETFROM:-0600
TZOFFSETTO:-0500
TZNAME:CDT
DTSTART:20270314T080000
END:DAYLIGHT
BEGIN:STANDARD
TZOFFSETFROM:-0500
TZOFFSETTO:-0600
TZNAME:CST
DTSTART:20271107T070000
END:STANDARD
END:VTIMEZONE
BEGIN:VEVENT
DTSTART;TZID=America/Chicago:20260510T090000
DTEND;TZID=America/Chicago:20260510T100000
DTSTAMP:20260423T183634
CREATED:20250305T140311Z
LAST-MODIFIED:20260223T211808Z
UID:1942-1778403600-1778407200@sheffieldmethodist.com
SUMMARY:Sunday School
DESCRIPTION:
URL:https://sheffieldmethodist.com/event/sunday-school-10/
END:VEVENT
BEGIN:VEVENT
DTSTART;TZID=America/Chicago:20260508T000000
DTEND;TZID=America/Chicago:20260508T235959
DTSTAMP:20260423T183634
CREATED:20250305T144531Z
LAST-MODIFIED:20260223T214752Z
UID:1976-1778198400-1778284799@sheffieldmethodist.com
SUMMARY:Church Office Closed
DESCRIPTION:
URL:https://sheffieldmethodist.com/event/church-office-closed-5/
END:VEVENT
BEGIN:VEVENT
DTSTART;TZID=America/Chicago:20260506T190000
DTEND;TZID=America/Chicago:20260506T190000
DTSTAMP:20260423T183634
CREATED:20221002T204616Z
LAST-MODIFIED:20260223T214234Z
UID:913-1778094000-1778094000@sheffieldmethodist.com
SUMMARY:Chancel Choir
DESCRIPTION:
URL:https://sheffieldmethodist.com/event/chancel-choir-3/
END:VEVENT
BEGIN:VEVENT
DTSTART;TZID=America/Chicago:20260506T180000
DTEND;TZID=America/Chicago:20260506T190000
DTSTAMP:20260423T183634
CREATED:20250305T135019Z
LAST-MODIFIED:20260223T213659Z
UID:1925-1778090400-1778094000@sheffieldmethodist.com
SUMMARY:Small Groups (all ages)
DESCRIPTION:
URL:https://sheffieldmethodist.com/event/small-groups-all-ages-6/
END:VEVENT
BEGIN:VEVENT
DTSTART;TZID=America/Chicago:20260506T173000
DTEND;TZID=America/Chicago:20260506T180000
DTSTAMP:20260423T183634
CREATED:20250305T135814Z
LAST-MODIFIED:20260223T212402Z
UID:1937-1778088600-1778090400@sheffieldmethodist.com
SUMMARY:Meal
DESCRIPTION:
URL:https://sheffieldmethodist.com/event/meal-11/
END:VEVENT
BEGIN:VEVENT
DTSTART;TZID=America/Chicago:20260505T093000
DTEND;TZID=America/Chicago:20260505T103000
DTSTAMP:20260423T183634
CREATED:20250305T144037Z
LAST-MODIFIED:20260223T213026Z
UID:1970-1777973400-1777977000@sheffieldmethodist.com
SUMMARY:Prayer Group
DESCRIPTION:
URL:https://sheffieldmethodist.com/event/prayer-group-12/
END:VEVENT
BEGIN:VEVENT
DTSTART;TZID=America/Chicago:20260503T100000
DTEND;TZID=America/Chicago:20260503T110000
DTSTAMP:20260423T183634
CREATED:20220901T131721Z
LAST-MODIFIED:20260223T211243Z
UID:487-1777802400-1777806000@sheffieldmethodist.com
SUMMARY:Worship
DESCRIPTION:
URL:https://sheffieldmethodist.com/event/worship-4/
END:VEVENT
BEGIN:VEVENT
DTSTART;TZID=America/Chicago:20260503T090000
DTEND;TZID=America/Chicago:20260503T100000
DTSTAMP:20260423T183634
CREATED:20220901T132022Z
LAST-MODIFIED:20260223T211754Z
UID:493-1777798800-1777802400@sheffieldmethodist.com
SUMMARY:Sunday School
DESCRIPTION:
URL:https://sheffieldmethodist.com/event/sunday-school-2/
END:VEVENT
BEGIN:VEVENT
DTSTART;TZID=America/Chicago:20260501T000000
DTEND;TZID=America/Chicago:20260501T235959
DTSTAMP:20260423T183634
CREATED:20250305T144508Z
LAST-MODIFIED:20260223T214738Z
UID:1974-1777593600-1777679999@sheffieldmethodist.com
SUMMARY:Church Office Closed
DESCRIPTION:
URL:https://sheffieldmethodist.com/event/church-office-closed-2/
END:VEVENT
BEGIN:VEVENT
DTSTART;TZID=America/Chicago:20260429T190000
DTEND;TZID=America/Chicago:20260429T190000
DTSTAMP:20260423T183634
CREATED:20230105T210426Z
LAST-MODIFIED:20260223T214219Z
UID:1101-1777489200-1777489200@sheffieldmethodist.com
SUMMARY:Chancel Choir
DESCRIPTION:
URL:https://sheffieldmethodist.com/event/chancel-choir-5/
END:VEVENT
BEGIN:VEVENT
DTSTART;TZID=America/Chicago:20260429T180000
DTEND;TZID=America/Chicago:20260429T190000
DTSTAMP:20260423T183634
CREATED:20230404T125844Z
LAST-MODIFIED:20260223T213645Z
UID:1211-1777485600-1777489200@sheffieldmethodist.com
SUMMARY:Small Groups (all ages)
DESCRIPTION:
URL:https://sheffieldmethodist.com/event/small-groups-all-ages/
END:VEVENT
BEGIN:VEVENT
DTSTART;TZID=America/Chicago:20260429T173000
DTEND;TZID=America/Chicago:20260429T180000
DTSTAMP:20260423T183634
CREATED:20250305T135746Z
LAST-MODIFIED:20260223T212305Z
UID:1935-1777483800-1777485600@sheffieldmethodist.com
SUMMARY:Meal
DESCRIPTION:
URL:https://sheffieldmethodist.com/event/meal-10/
END:VEVENT
BEGIN:VEVENT
DTSTART;TZID=America/Chicago:20260428T093000
DTEND;TZID=America/Chicago:20260428T103000
DTSTAMP:20260423T183634
CREATED:20220901T134516Z
LAST-MODIFIED:20260223T213011Z
UID:521-1777368600-1777372200@sheffieldmethodist.com
SUMMARY:Prayer Group
DESCRIPTION:
URL:https://sheffieldmethodist.com/event/prayer-group-3/
END:VEVENT
BEGIN:VEVENT
DTSTART;TZID=America/Chicago:20260426T100000
DTEND;TZID=America/Chicago:20260426T110000
DTSTAMP:20260423T183634
CREATED:20220901T131658Z
LAST-MODIFIED:20260223T211228Z
UID:485-1777197600-1777201200@sheffieldmethodist.com
SUMMARY:Worship
DESCRIPTION:
URL:https://sheffieldmethodist.com/event/worship-3/
END:VEVENT
BEGIN:VEVENT
DTSTART;TZID=America/Chicago:20260426T090000
DTEND;TZID=America/Chicago:20260426T100000
DTSTAMP:20260423T183634
CREATED:20220901T132037Z
LAST-MODIFIED:20260223T211739Z
UID:495-1777194000-1777197600@sheffieldmethodist.com
SUMMARY:Sunday School
DESCRIPTION:
URL:https://sheffieldmethodist.com/event/sunday-school-3/
END:VEVENT
BEGIN:VEVENT
DTSTART;TZID=America/Chicago:20260424T000000
DTEND;TZID=America/Chicago:20260424T235959
DTSTAMP:20260423T183634
CREATED:20230105T210226Z
LAST-MODIFIED:20260223T214722Z
UID:1099-1776988800-1777075199@sheffieldmethodist.com
SUMMARY:Church Office Closed
DESCRIPTION:
URL:https://sheffieldmethodist.com/event/church-office-closed-3/
END:VEVENT
BEGIN:VEVENT
DTSTART;TZID=America/Chicago:20260422T190000
DTEND;TZID=America/Chicago:20260422T190000
DTSTAMP:20260423T183634
CREATED:20230216T210328Z
LAST-MODIFIED:20260223T214204Z
UID:1155-1776884400-1776884400@sheffieldmethodist.com
SUMMARY:Chancel Choir
DESCRIPTION:
URL:https://sheffieldmethodist.com/event/chancel-choir-6/
END:VEVENT
BEGIN:VEVENT
DTSTART;TZID=America/Chicago:20260422T180000
DTEND;TZID=America/Chicago:20260422T190000
DTSTAMP:20260423T183634
CREATED:20230404T125946Z
LAST-MODIFIED:20260223T213629Z
UID:1215-1776880800-1776884400@sheffieldmethodist.com
SUMMARY:Small Groups (all ages)
DESCRIPTION:
URL:https://sheffieldmethodist.com/event/small-groups-all-ages-3/
END:VEVENT
BEGIN:VEVENT
DTSTART;TZID=America/Chicago:20260422T173000
DTEND;TZID=America/Chicago:20260422T180000
DTSTAMP:20260423T183634
CREATED:20250305T135724Z
LAST-MODIFIED:20260223T212251Z
UID:1933-1776879000-1776880800@sheffieldmethodist.com
SUMMARY:Meal
DESCRIPTION:
URL:https://sheffieldmethodist.com/event/meal-7/
END:VEVENT
BEGIN:VEVENT
DTSTART;TZID=America/Chicago:20260421T093000
DTEND;TZID=America/Chicago:20260421T103000
DTSTAMP:20260423T183634
CREATED:20220901T134537Z
LAST-MODIFIED:20260223T212957Z
UID:523-1776763800-1776767400@sheffieldmethodist.com
SUMMARY:Prayer Group
DESCRIPTION:
URL:https://sheffieldmethodist.com/event/prayer-group-4/
END:VEVENT
BEGIN:VEVENT
DTSTART;TZID=America/Chicago:20260419T100000
DTEND;TZID=America/Chicago:20260419T110000
DTSTAMP:20260423T183634
CREATED:20220901T131738Z
LAST-MODIFIED:20260223T211212Z
UID:489-1776592800-1776596400@sheffieldmethodist.com
SUMMARY:Worship
DESCRIPTION:
URL:https://sheffieldmethodist.com/event/worship-5/
END:VEVENT
BEGIN:VEVENT
DTSTART;TZID=America/Chicago:20260419T090000
DTEND;TZID=America/Chicago:20260419T100000
DTSTAMP:20260423T183634
CREATED:20220901T132054Z
LAST-MODIFIED:20260223T211726Z
UID:497-1776589200-1776592800@sheffieldmethodist.com
SUMMARY:Sunday School
DESCRIPTION:
URL:https://sheffieldmethodist.com/event/sunday-school-4/
END:VEVENT
BEGIN:VEVENT
DTSTART;TZID=America/Chicago:20260417T000000
DTEND;TZID=America/Chicago:20260417T235959
DTSTAMP:20260423T183634
CREATED:20230220T021855Z
LAST-MODIFIED:20260223T214709Z
UID:1197-1776384000-1776470399@sheffieldmethodist.com
SUMMARY:Church Office Closed
DESCRIPTION:
URL:https://sheffieldmethodist.com/event/church-office-closed-4/
END:VEVENT
BEGIN:VEVENT
DTSTART;TZID=America/Chicago:20260415T190000
DTEND;TZID=America/Chicago:20260415T190000
DTSTAMP:20260423T183634
CREATED:20230216T210354Z
LAST-MODIFIED:20260223T214148Z
UID:1157-1776279600-1776279600@sheffieldmethodist.com
SUMMARY:Chancel Choir
DESCRIPTION:
URL:https://sheffieldmethodist.com/event/chancel-choir-7/
END:VEVENT
BEGIN:VEVENT
DTSTART;TZID=America/Chicago:20260415T180000
DTEND;TZID=America/Chicago:20260415T190000
DTSTAMP:20260423T183634
CREATED:20230404T130019Z
LAST-MODIFIED:20260223T213616Z
UID:1217-1776276000-1776279600@sheffieldmethodist.com
SUMMARY:Small Groups (all ages)
DESCRIPTION:
URL:https://sheffieldmethodist.com/event/small-groups-all-ages-4/
END:VEVENT
BEGIN:VEVENT
DTSTART;TZID=America/Chicago:20260415T173000
DTEND;TZID=America/Chicago:20260415T180000
DTSTAMP:20260423T183634
CREATED:20250305T135643Z
LAST-MODIFIED:20260223T212237Z
UID:1931-1776274200-1776276000@sheffieldmethodist.com
SUMMARY:Meal
DESCRIPTION:
URL:https://sheffieldmethodist.com/event/1931/
END:VEVENT
BEGIN:VEVENT
DTSTART;TZID=America/Chicago:20260414T093000
DTEND;TZID=America/Chicago:20260414T103000
DTSTAMP:20260423T183634
CREATED:20221002T203449Z
LAST-MODIFIED:20260223T212942Z
UID:876-1776159000-1776162600@sheffieldmethodist.com
SUMMARY:Prayer Group
DESCRIPTION:
URL:https://sheffieldmethodist.com/event/prayer-group-5/
END:VEVENT
BEGIN:VEVENT
DTSTART;TZID=America/Chicago:20260412T100000
DTEND;TZID=America/Chicago:20260412T110000
DTSTAMP:20260423T183634
CREATED:20221002T202618Z
LAST-MODIFIED:20260223T211157Z
UID:860-1775988000-1775991600@sheffieldmethodist.com
SUMMARY:Worship
DESCRIPTION:
URL:https://sheffieldmethodist.com/event/860/
END:VEVENT
BEGIN:VEVENT
DTSTART;TZID=America/Chicago:20260412T090000
DTEND;TZID=America/Chicago:20260412T100000
DTSTAMP:20260423T183634
CREATED:20221002T203137Z
LAST-MODIFIED:20260223T211712Z
UID:869-1775984400-1775988000@sheffieldmethodist.com
SUMMARY:Sunday School
DESCRIPTION:
URL:https://sheffieldmethodist.com/event/sunday-school-5/
END:VEVENT
BEGIN:VEVENT
DTSTART;TZID=America/Chicago:20260410T000000
DTEND;TZID=America/Chicago:20260410T235959
DTSTAMP:20260423T183634
CREATED:20230405T125618Z
LAST-MODIFIED:20260223T214653Z
UID:1238-1775779200-1775865599@sheffieldmethodist.com
SUMMARY:Church Office Closed
DESCRIPTION:
URL:https://sheffieldmethodist.com/event/office-closed/
END:VEVENT
END:VCALENDAR