BEGIN:VCALENDAR
VERSION:2.0
PRODID:-//Sheffield Methodist Church - ECPv6.15.20//NONSGML v1.0//EN
CALSCALE:GREGORIAN
METHOD:PUBLISH
X-WR-CALNAME:Sheffield Methodist Church
X-ORIGINAL-URL:https://sheffieldmethodist.com
X-WR-CALDESC:Events for Sheffield Methodist Church
REFRESH-INTERVAL;VALUE=DURATION:PT1H
X-Robots-Tag:noindex
X-PUBLISHED-TTL:PT1H
BEGIN:VTIMEZONE
TZID:America/Chicago
BEGIN:DAYLIGHT
TZOFFSETFROM:-0600
TZOFFSETTO:-0500
TZNAME:CDT
DTSTART:20230312T080000
END:DAYLIGHT
BEGIN:STANDARD
TZOFFSETFROM:-0500
TZOFFSETTO:-0600
TZNAME:CST
DTSTART:20231105T070000
END:STANDARD
BEGIN:DAYLIGHT
TZOFFSETFROM:-0600
TZOFFSETTO:-0500
TZNAME:CDT
DTSTART:20240310T080000
END:DAYLIGHT
BEGIN:STANDARD
TZOFFSETFROM:-0500
TZOFFSETTO:-0600
TZNAME:CST
DTSTART:20241103T070000
END:STANDARD
BEGIN:DAYLIGHT
TZOFFSETFROM:-0600
TZOFFSETTO:-0500
TZNAME:CDT
DTSTART:20250309T080000
END:DAYLIGHT
BEGIN:STANDARD
TZOFFSETFROM:-0500
TZOFFSETTO:-0600
TZNAME:CST
DTSTART:20251102T070000
END:STANDARD
BEGIN:DAYLIGHT
TZOFFSETFROM:-0600
TZOFFSETTO:-0500
TZNAME:CDT
DTSTART:20260308T080000
END:DAYLIGHT
BEGIN:STANDARD
TZOFFSETFROM:-0500
TZOFFSETTO:-0600
TZNAME:CST
DTSTART:20261101T070000
END:STANDARD
BEGIN:DAYLIGHT
TZOFFSETFROM:-0600
TZOFFSETTO:-0500
TZNAME:CDT
DTSTART:20270314T080000
END:DAYLIGHT
BEGIN:STANDARD
TZOFFSETFROM:-0500
TZOFFSETTO:-0600
TZNAME:CST
DTSTART:20271107T070000
END:STANDARD
END:VTIMEZONE
BEGIN:VEVENT
DTSTART;TZID=America/Chicago:20260304T180000
DTEND;TZID=America/Chicago:20260304T190000
DTSTAMP:20260423T173848
CREATED:20250529T200630Z
LAST-MODIFIED:20260223T213421Z
UID:2028-1772647200-1772650800@sheffieldmethodist.com
SUMMARY:Small Groups (all ages)
DESCRIPTION:
URL:https://sheffieldmethodist.com/event/small-groups-all-ages-12/
END:VEVENT
BEGIN:VEVENT
DTSTART;TZID=America/Chicago:20260304T173000
DTEND;TZID=America/Chicago:20260304T180000
DTSTAMP:20260423T173848
CREATED:20240801T182234Z
LAST-MODIFIED:20260223T212055Z
UID:1733-1772645400-1772647200@sheffieldmethodist.com
SUMMARY:Meal
DESCRIPTION:
URL:https://sheffieldmethodist.com/event/meal-3/
END:VEVENT
BEGIN:VEVENT
DTSTART;TZID=America/Chicago:20260303T093000
DTEND;TZID=America/Chicago:20260303T223000
DTSTAMP:20260423T173848
CREATED:20220901T134423Z
LAST-MODIFIED:20260223T212728Z
UID:517-1772530200-1772577000@sheffieldmethodist.com
SUMMARY:Prayer Group
DESCRIPTION:
URL:https://sheffieldmethodist.com/event/prayer-group/
END:VEVENT
BEGIN:VEVENT
DTSTART;TZID=America/Chicago:20260301T100000
DTEND;TZID=America/Chicago:20260301T110000
DTSTAMP:20260423T173848
CREATED:20220901T131635Z
LAST-MODIFIED:20260223T211013Z
UID:483-1772359200-1772362800@sheffieldmethodist.com
SUMMARY:Worship
DESCRIPTION:
URL:https://sheffieldmethodist.com/event/worship-2/
END:VEVENT
BEGIN:VEVENT
DTSTART;TZID=America/Chicago:20260301T090000
DTEND;TZID=America/Chicago:20260301T100000
DTSTAMP:20260423T173848
CREATED:20220901T132005Z
LAST-MODIFIED:20260223T211517Z
UID:491-1772355600-1772359200@sheffieldmethodist.com
SUMMARY:Sunday School
DESCRIPTION:
URL:https://sheffieldmethodist.com/event/sunday-school/
END:VEVENT
BEGIN:VEVENT
DTSTART;TZID=America/Chicago:20260227T000000
DTEND;TZID=America/Chicago:20260227T235959
DTSTAMP:20260423T173848
CREATED:20250305T144636Z
LAST-MODIFIED:20260223T214518Z
UID:1980-1772150400-1772236799@sheffieldmethodist.com
SUMMARY:Church Office Closed
DESCRIPTION:
URL:https://sheffieldmethodist.com/event/church-office-closed-12/
END:VEVENT
BEGIN:VEVENT
DTSTART;TZID=America/Chicago:20260225T190000
DTEND;TZID=America/Chicago:20260225T190000
DTSTAMP:20260423T173848
CREATED:20250305T141959Z
LAST-MODIFIED:20260223T213928Z
UID:1964-1772046000-1772046000@sheffieldmethodist.com
SUMMARY:Chancel Choir
DESCRIPTION:
URL:https://sheffieldmethodist.com/event/chancel-choir-12/
END:VEVENT
BEGIN:VEVENT
DTSTART;TZID=America/Chicago:20260225T180000
DTEND;TZID=America/Chicago:20260225T190000
DTSTAMP:20260423T173848
CREATED:20250529T200552Z
LAST-MODIFIED:20260223T213405Z
UID:2026-1772042400-1772046000@sheffieldmethodist.com
SUMMARY:Small Groups (all ages)
DESCRIPTION:
URL:https://sheffieldmethodist.com/event/small-groups-all-ages-9/
END:VEVENT
BEGIN:VEVENT
DTSTART;TZID=America/Chicago:20260225T173000
DTEND;TZID=America/Chicago:20260225T180000
DTSTAMP:20260423T173848
CREATED:20240801T182255Z
LAST-MODIFIED:20260223T212040Z
UID:1735-1772040600-1772042400@sheffieldmethodist.com
SUMMARY:Meal
DESCRIPTION:
URL:https://sheffieldmethodist.com/event/meal-5/
END:VEVENT
BEGIN:VEVENT
DTSTART;TZID=America/Chicago:20260224T093000
DTEND;TZID=America/Chicago:20260224T103000
DTSTAMP:20260423T173848
CREATED:20220901T134454Z
LAST-MODIFIED:20260223T212712Z
UID:519-1771925400-1771929000@sheffieldmethodist.com
SUMMARY:Prayer Group
DESCRIPTION:
URL:https://sheffieldmethodist.com/event/prayer-group-2/
END:VEVENT
BEGIN:VEVENT
DTSTART;TZID=America/Chicago:20251225T000000
DTEND;TZID=America/Chicago:20251225T235959
DTSTAMP:20260423T173848
CREATED:20250926T001756Z
LAST-MODIFIED:20250926T001805Z
UID:2079-1766620800-1766707199@sheffieldmethodist.com
SUMMARY:Merry Christmas!
DESCRIPTION:
URL:https://sheffieldmethodist.com/event/merry-christmas/
END:VEVENT
BEGIN:VEVENT
DTSTART;TZID=America/Chicago:20251214T160000
DTEND;TZID=America/Chicago:20251214T170000
DTSTAMP:20260423T173848
CREATED:20251119T213421Z
LAST-MODIFIED:20251119T215253Z
UID:2097-1765728000-1765731600@sheffieldmethodist.com
SUMMARY:Christmas Cantata
DESCRIPTION:
URL:https://sheffieldmethodist.com/event/christmas-cantata/
END:VEVENT
BEGIN:VEVENT
DTSTART;TZID=America/Chicago:20251207T100000
DTEND;TZID=America/Chicago:20251207T110000
DTSTAMP:20260423T173848
CREATED:20241121T205940Z
LAST-MODIFIED:20251031T131745Z
UID:1848-1765101600-1765105200@sheffieldmethodist.com
SUMMARY:Children's Christmas Program
DESCRIPTION:
URL:https://sheffieldmethodist.com/event/childrens-christmas-program/
END:VEVENT
BEGIN:VEVENT
DTSTART;TZID=America/Chicago:20251127T000000
DTEND;TZID=America/Chicago:20251127T235900
DTSTAMP:20260423T173848
CREATED:20221028T234826Z
LAST-MODIFIED:20250926T001630Z
UID:1003-1764201600-1764287940@sheffieldmethodist.com
SUMMARY:Happy Thanksgiving!
DESCRIPTION:
URL:https://sheffieldmethodist.com/event/happy-thanksgiving/
END:VEVENT
BEGIN:VEVENT
DTSTART;TZID=America/Chicago:20250727T000000
DTEND;TZID=America/Chicago:20250727T235959
DTSTAMP:20260423T173848
CREATED:20250702T153747Z
LAST-MODIFIED:20250702T153851Z
UID:2041-1753574400-1753660799@sheffieldmethodist.com
SUMMARY:Chancel Choir Handy Event
DESCRIPTION:@Grace Episcopal
URL:https://sheffieldmethodist.com/event/chancel-choir-handy-event/
END:VEVENT
BEGIN:VEVENT
DTSTART;TZID=America/Chicago:20250720T160000
DTEND;TZID=America/Chicago:20250720T180000
DTSTAMP:20260423T173848
CREATED:20250702T153640Z
LAST-MODIFIED:20250702T153641Z
UID:2039-1753027200-1753034400@sheffieldmethodist.com
SUMMARY:Youth Game Night
DESCRIPTION:
URL:https://sheffieldmethodist.com/event/youth-game-night/
END:VEVENT
BEGIN:VEVENT
DTSTART;TZID=America/Chicago:20250704T000000
DTEND;TZID=America/Chicago:20250704T235900
DTSTAMP:20260423T173848
CREATED:20240606T204359Z
LAST-MODIFIED:20250702T153534Z
UID:1705-1751587200-1751673540@sheffieldmethodist.com
SUMMARY:Happy 4th of July!
DESCRIPTION:
URL:https://sheffieldmethodist.com/event/happy-4th-of-july/
END:VEVENT
BEGIN:VEVENT
DTSTART;TZID=America/Chicago:20250528T173000
DTEND;TZID=America/Chicago:20250528T190000
DTSTAMP:20260423T173848
CREATED:20240502T180418Z
LAST-MODIFIED:20250522T200115Z
UID:1664-1748453400-1748458800@sheffieldmethodist.com
SUMMARY:Kids' Pool Party
DESCRIPTION:
URL:https://sheffieldmethodist.com/event/kids-pool-party/
END:VEVENT
BEGIN:VEVENT
DTSTART;TZID=America/Chicago:20250526T000000
DTEND;TZID=America/Chicago:20250526T235959
DTSTAMP:20260423T173848
CREATED:20240502T180255Z
LAST-MODIFIED:20250522T200046Z
UID:1660-1748217600-1748303999@sheffieldmethodist.com
SUMMARY:Memorial Day
DESCRIPTION:
URL:https://sheffieldmethodist.com/event/memorial-day-2/
END:VEVENT
BEGIN:VEVENT
DTSTART;TZID=America/Chicago:20250518T140000
DTEND;TZID=America/Chicago:20250518T160000
DTSTAMP:20260423T173848
CREATED:20250515T200052Z
LAST-MODIFIED:20250515T200055Z
UID:2014-1747576800-1747584000@sheffieldmethodist.com
SUMMARY:Baby Shower
DESCRIPTION:
URL:https://sheffieldmethodist.com/event/baby-shower/
END:VEVENT
BEGIN:VEVENT
DTSTART;TZID=America/Chicago:20250518T110000
DTEND;TZID=America/Chicago:20250518T120000
DTSTAMP:20260423T173848
CREATED:20250515T195525Z
LAST-MODIFIED:20250515T195528Z
UID:2012-1747566000-1747569600@sheffieldmethodist.com
SUMMARY:Aloha Day & Luau
DESCRIPTION:
URL:https://sheffieldmethodist.com/event/aloha-day-luau/
END:VEVENT
BEGIN:VEVENT
DTSTART;TZID=America/Chicago:20250420T084500
DTEND;TZID=America/Chicago:20250420T100000
DTSTAMP:20260423T173848
CREATED:20250328T133742Z
LAST-MODIFIED:20250328T133744Z
UID:1996-1745138700-1745143200@sheffieldmethodist.com
SUMMARY:Easter Egg Hunt
DESCRIPTION:
URL:https://sheffieldmethodist.com/event/easter-egg-hunt-2/
END:VEVENT
BEGIN:VEVENT
DTSTART;TZID=America/Chicago:20250326T160000
DTEND;TZID=America/Chicago:20250326T180000
DTSTAMP:20260423T173848
CREATED:20250320T193828Z
LAST-MODIFIED:20250320T193831Z
UID:1993-1743004800-1743012000@sheffieldmethodist.com
SUMMARY:Chuck E. Cheese (all ages!)
DESCRIPTION:
URL:https://sheffieldmethodist.com/event/chuck-e-cheese-all-ages/
END:VEVENT
BEGIN:VEVENT
DTSTART;TZID=America/Chicago:20250316T153000
DTEND;TZID=America/Chicago:20250316T170000
DTSTAMP:20260423T173848
CREATED:20250306T193944Z
LAST-MODIFIED:20250306T193946Z
UID:1986-1742139000-1742144400@sheffieldmethodist.com
SUMMARY:Isaiah's Call Service Day
DESCRIPTION:
URL:https://sheffieldmethodist.com/event/isaiahs-call-service-day-2/
END:VEVENT
BEGIN:VEVENT
DTSTART;TZID=America/Chicago:20250309T153000
DTEND;TZID=America/Chicago:20250309T170000
DTSTAMP:20260423T173848
CREATED:20250306T193916Z
LAST-MODIFIED:20250306T193919Z
UID:1984-1741534200-1741539600@sheffieldmethodist.com
SUMMARY:Isaiah's Call Service Day
DESCRIPTION:
URL:https://sheffieldmethodist.com/event/isaiahs-call-service-day/
END:VEVENT
BEGIN:VEVENT
DTSTART;TZID=America/Chicago:20250305T180000
DTEND;TZID=America/Chicago:20250305T190000
DTSTAMP:20260423T173848
CREATED:20230216T203829Z
LAST-MODIFIED:20250305T134705Z
UID:1137-1741197600-1741201200@sheffieldmethodist.com
SUMMARY:Ash Wednesday Service
DESCRIPTION:
URL:https://sheffieldmethodist.com/event/ash-wednesday-service/
END:VEVENT
BEGIN:VEVENT
DTSTART;TZID=America/Chicago:20250217T000000
DTEND;TZID=America/Chicago:20250217T235959
DTSTAMP:20260423T173848
CREATED:20250103T203301Z
LAST-MODIFIED:20250130T213406Z
UID:1893-1739750400-1739836799@sheffieldmethodist.com
SUMMARY:Church Office Closed - Presidents' Day
DESCRIPTION:
URL:https://sheffieldmethodist.com/event/church-office-closed-martin-luther-king-jr-day/
END:VEVENT
BEGIN:VEVENT
DTSTART;TZID=America/Chicago:20241208T163000
DTEND;TZID=America/Chicago:20241208T173000
DTSTAMP:20260423T173848
CREATED:20241121T210101Z
LAST-MODIFIED:20241121T210104Z
UID:1850-1733675400-1733679000@sheffieldmethodist.com
SUMMARY:Adult Choir Program
DESCRIPTION:
URL:https://sheffieldmethodist.com/event/adult-choir-program/
END:VEVENT
BEGIN:VEVENT
DTSTART;TZID=America/Chicago:20241005T090000
DTEND;TZID=America/Chicago:20241005T120000
DTSTAMP:20260423T173848
CREATED:20240927T123327Z
LAST-MODIFIED:20240927T123330Z
UID:1771-1728118800-1728129600@sheffieldmethodist.com
SUMMARY:Beds for Children
DESCRIPTION:
URL:https://sheffieldmethodist.com/event/beds-for-children/
END:VEVENT
BEGIN:VEVENT
DTSTART;TZID=America/Chicago:20240929T143000
DTEND;TZID=America/Chicago:20240929T173000
DTSTAMP:20260423T173848
CREATED:20240927T122708Z
LAST-MODIFIED:20240927T122711Z
UID:1769-1727620200-1727631000@sheffieldmethodist.com
SUMMARY:Church Membership Class
DESCRIPTION:
URL:https://sheffieldmethodist.com/event/church-membership-class/
END:VEVENT
END:VCALENDAR