BEGIN:VCALENDAR
VERSION:2.0
PRODID:-//Sheffield Methodist Church - ECPv6.15.20//NONSGML v1.0//EN
CALSCALE:GREGORIAN
METHOD:PUBLISH
X-ORIGINAL-URL:https://sheffieldmethodist.com
X-WR-CALDESC:Events for Sheffield Methodist Church
REFRESH-INTERVAL;VALUE=DURATION:PT1H
X-Robots-Tag:noindex
X-PUBLISHED-TTL:PT1H
BEGIN:VTIMEZONE
TZID:America/Chicago
BEGIN:DAYLIGHT
TZOFFSETFROM:-0600
TZOFFSETTO:-0500
TZNAME:CDT
DTSTART:20250309T080000
END:DAYLIGHT
BEGIN:STANDARD
TZOFFSETFROM:-0500
TZOFFSETTO:-0600
TZNAME:CST
DTSTART:20251102T070000
END:STANDARD
BEGIN:DAYLIGHT
TZOFFSETFROM:-0600
TZOFFSETTO:-0500
TZNAME:CDT
DTSTART:20260308T080000
END:DAYLIGHT
BEGIN:STANDARD
TZOFFSETFROM:-0500
TZOFFSETTO:-0600
TZNAME:CST
DTSTART:20261101T070000
END:STANDARD
BEGIN:DAYLIGHT
TZOFFSETFROM:-0600
TZOFFSETTO:-0500
TZNAME:CDT
DTSTART:20270314T080000
END:DAYLIGHT
BEGIN:STANDARD
TZOFFSETFROM:-0500
TZOFFSETTO:-0600
TZNAME:CST
DTSTART:20271107T070000
END:STANDARD
END:VTIMEZONE
BEGIN:VEVENT
DTSTART;TZID=America/Chicago:20260322T090000
DTEND;TZID=America/Chicago:20260322T100000
DTSTAMP:20260423T153348
CREATED:20230216T205137Z
LAST-MODIFIED:20260223T211627Z
UID:1145-1774170000-1774173600@sheffieldmethodist.com
SUMMARY:Sunday School
DESCRIPTION:
URL:https://sheffieldmethodist.com/event/sunday-school-6/
END:VEVENT
BEGIN:VEVENT
DTSTART;TZID=America/Chicago:20260322T100000
DTEND;TZID=America/Chicago:20260322T110000
DTSTAMP:20260423T153348
CREATED:20230216T205740Z
LAST-MODIFIED:20260223T211111Z
UID:1151-1774173600-1774177200@sheffieldmethodist.com
SUMMARY:Worship
DESCRIPTION:
URL:https://sheffieldmethodist.com/event/worship-8/
END:VEVENT
BEGIN:VEVENT
DTSTART;TZID=America/Chicago:20260324T093000
DTEND;TZID=America/Chicago:20260324T103000
DTSTAMP:20260423T153348
CREATED:20230216T210134Z
LAST-MODIFIED:20260223T212812Z
UID:1153-1774344600-1774348200@sheffieldmethodist.com
SUMMARY:Prayer Group
DESCRIPTION:
URL:https://sheffieldmethodist.com/event/prayer-group-8/
END:VEVENT
BEGIN:VEVENT
DTSTART;TZID=America/Chicago:20260325T173000
DTEND;TZID=America/Chicago:20260325T180000
DTSTAMP:20260423T153348
CREATED:20230216T204815Z
LAST-MODIFIED:20260223T212138Z
UID:1141-1774459800-1774461600@sheffieldmethodist.com
SUMMARY:Meal
DESCRIPTION:
URL:https://sheffieldmethodist.com/event/meal-8/
END:VEVENT
BEGIN:VEVENT
DTSTART;TZID=America/Chicago:20260325T180000
DTEND;TZID=America/Chicago:20260325T190000
DTSTAMP:20260423T153348
CREATED:20230404T130217Z
LAST-MODIFIED:20260223T213507Z
UID:1225-1774461600-1774465200@sheffieldmethodist.com
SUMMARY:Small Groups (all ages)
DESCRIPTION:
URL:https://sheffieldmethodist.com/event/small-groups-all-ages-8/
END:VEVENT
BEGIN:VEVENT
DTSTART;TZID=America/Chicago:20260325T190000
DTEND;TZID=America/Chicago:20260325T190000
DTSTAMP:20260423T153348
CREATED:20230216T210457Z
LAST-MODIFIED:20260223T214040Z
UID:1161-1774465200-1774465200@sheffieldmethodist.com
SUMMARY:Chancel Choir
DESCRIPTION:
URL:https://sheffieldmethodist.com/event/chancel-choir-9/
END:VEVENT
BEGIN:VEVENT
DTSTART;TZID=America/Chicago:20260327T000000
DTEND;TZID=America/Chicago:20260327T235959
DTSTAMP:20260423T153348
CREATED:20230405T130013Z
LAST-MODIFIED:20260223T214624Z
UID:1251-1774569600-1774655999@sheffieldmethodist.com
SUMMARY:Church Office Closed
DESCRIPTION:
URL:https://sheffieldmethodist.com/event/church-office-closed-7/
END:VEVENT
BEGIN:VEVENT
DTSTART;TZID=America/Chicago:20260329T000000
DTEND;TZID=America/Chicago:20260329T235959
DTSTAMP:20260423T153348
CREATED:20240314T190031Z
LAST-MODIFIED:20260223T211458Z
UID:1550-1774742400-1774828799@sheffieldmethodist.com
SUMMARY:Palm Sunday
DESCRIPTION:
URL:https://sheffieldmethodist.com/event/palm-sunday/
END:VEVENT
BEGIN:VEVENT
DTSTART;TZID=America/Chicago:20260329T090000
DTEND;TZID=America/Chicago:20260329T100000
DTSTAMP:20260423T153348
CREATED:20250305T140720Z
LAST-MODIFIED:20260223T211643Z
UID:1948-1774774800-1774778400@sheffieldmethodist.com
SUMMARY:Sunday School
DESCRIPTION:
URL:https://sheffieldmethodist.com/event/sunday-school-13/
END:VEVENT
BEGIN:VEVENT
DTSTART;TZID=America/Chicago:20260329T100000
DTEND;TZID=America/Chicago:20260329T110000
DTSTAMP:20260423T153348
CREATED:20230216T205413Z
LAST-MODIFIED:20260223T211126Z
UID:859-1774778400-1774782000@sheffieldmethodist.com
SUMMARY:Worship
DESCRIPTION:
URL:https://sheffieldmethodist.com/event/worship-7/
END:VEVENT
BEGIN:VEVENT
DTSTART;TZID=America/Chicago:20260331T093000
DTEND;TZID=America/Chicago:20260331T103000
DTSTAMP:20260423T153348
CREATED:20221002T203552Z
LAST-MODIFIED:20260223T212826Z
UID:880-1774949400-1774953000@sheffieldmethodist.com
SUMMARY:Prayer Group
DESCRIPTION:
URL:https://sheffieldmethodist.com/event/prayer-group-7/
END:VEVENT
BEGIN:VEVENT
DTSTART;TZID=America/Chicago:20260401T173000
DTEND;TZID=America/Chicago:20260401T180000
DTSTAMP:20260423T153348
CREATED:20230216T204748Z
LAST-MODIFIED:20260223T212209Z
UID:1139-1775064600-1775066400@sheffieldmethodist.com
SUMMARY:Meal
DESCRIPTION:
URL:https://sheffieldmethodist.com/event/meal-4/
END:VEVENT
BEGIN:VEVENT
DTSTART;TZID=America/Chicago:20260401T180000
DTEND;TZID=America/Chicago:20260401T190000
DTSTAMP:20260423T153348
CREATED:20230404T130156Z
LAST-MODIFIED:20260223T213523Z
UID:1223-1775066400-1775070000@sheffieldmethodist.com
SUMMARY:Small Groups (all ages)
DESCRIPTION:
URL:https://sheffieldmethodist.com/event/small-groups-all-ages-7/
END:VEVENT
BEGIN:VEVENT
DTSTART;TZID=America/Chicago:20260401T190000
DTEND;TZID=America/Chicago:20260401T190000
DTSTAMP:20260423T153348
CREATED:20231229T190348Z
LAST-MODIFIED:20260223T214054Z
UID:1441-1775070000-1775070000@sheffieldmethodist.com
SUMMARY:Chancel Choir
DESCRIPTION:
URL:https://sheffieldmethodist.com/event/chancel-choir-2/
END:VEVENT
BEGIN:VEVENT
DTSTART;TZID=America/Chicago:20260403T000000
DTEND;TZID=America/Chicago:20260403T235959
DTSTAMP:20260423T153348
CREATED:20230405T125953Z
LAST-MODIFIED:20260223T214638Z
UID:1249-1775174400-1775260799@sheffieldmethodist.com
SUMMARY:Church Office Closed
DESCRIPTION:
URL:https://sheffieldmethodist.com/event/church-office-closed-6/
END:VEVENT
BEGIN:VEVENT
DTSTART;TZID=America/Chicago:20260405T000000
DTEND;TZID=America/Chicago:20260405T235959
DTSTAMP:20260423T153348
CREATED:20230405T125009Z
LAST-MODIFIED:20260223T212005Z
UID:1232-1775347200-1775433599@sheffieldmethodist.com
SUMMARY:EASTER
DESCRIPTION:
URL:https://sheffieldmethodist.com/event/easter/
END:VEVENT
BEGIN:VEVENT
DTSTART;TZID=America/Chicago:20260405T090000
DTEND;TZID=America/Chicago:20260405T100000
DTSTAMP:20260423T153348
CREATED:20221002T203243Z
LAST-MODIFIED:20260223T211658Z
UID:873-1775379600-1775383200@sheffieldmethodist.com
SUMMARY:Sunday School
DESCRIPTION:
URL:https://sheffieldmethodist.com/event/sunday-school-7/
END:VEVENT
BEGIN:VEVENT
DTSTART;TZID=America/Chicago:20260405T100000
DTEND;TZID=America/Chicago:20260405T110000
DTSTAMP:20260423T153348
CREATED:20221002T202910Z
LAST-MODIFIED:20260223T211141Z
UID:865-1775383200-1775386800@sheffieldmethodist.com
SUMMARY:Worship
DESCRIPTION:
URL:https://sheffieldmethodist.com/event/worship-6/
END:VEVENT
BEGIN:VEVENT
DTSTART;TZID=America/Chicago:20260407T093000
DTEND;TZID=America/Chicago:20260407T103000
DTSTAMP:20260423T153348
CREATED:20221002T203533Z
LAST-MODIFIED:20260223T212926Z
UID:878-1775554200-1775557800@sheffieldmethodist.com
SUMMARY:Prayer Group
DESCRIPTION:
URL:https://sheffieldmethodist.com/event/prayer-group-6/
END:VEVENT
BEGIN:VEVENT
DTSTART;TZID=America/Chicago:20260408T173000
DTEND;TZID=America/Chicago:20260408T180000
DTSTAMP:20260423T153348
CREATED:20221002T203929Z
LAST-MODIFIED:20260223T212223Z
UID:893-1775669400-1775671200@sheffieldmethodist.com
SUMMARY:Meal
DESCRIPTION:
URL:https://sheffieldmethodist.com/event/meal-6/
END:VEVENT
BEGIN:VEVENT
DTSTART;TZID=America/Chicago:20260408T180000
DTEND;TZID=America/Chicago:20260408T190000
DTSTAMP:20260423T153348
CREATED:20230404T130043Z
LAST-MODIFIED:20260223T213540Z
UID:1219-1775671200-1775674800@sheffieldmethodist.com
SUMMARY:Small Groups (all ages)
DESCRIPTION:
URL:https://sheffieldmethodist.com/event/small-groups-all-ages-5/
END:VEVENT
BEGIN:VEVENT
DTSTART;TZID=America/Chicago:20260408T190000
DTEND;TZID=America/Chicago:20260408T190000
DTSTAMP:20260423T153348
CREATED:20230216T210434Z
LAST-MODIFIED:20260223T214115Z
UID:1159-1775674800-1775674800@sheffieldmethodist.com
SUMMARY:Chancel Choir
DESCRIPTION:
URL:https://sheffieldmethodist.com/event/chancel-choir-8/
END:VEVENT
BEGIN:VEVENT
DTSTART;TZID=America/Chicago:20260410T000000
DTEND;TZID=America/Chicago:20260410T235959
DTSTAMP:20260423T153348
CREATED:20230405T125618Z
LAST-MODIFIED:20260223T214653Z
UID:1238-1775779200-1775865599@sheffieldmethodist.com
SUMMARY:Church Office Closed
DESCRIPTION:
URL:https://sheffieldmethodist.com/event/office-closed/
END:VEVENT
BEGIN:VEVENT
DTSTART;TZID=America/Chicago:20260412T090000
DTEND;TZID=America/Chicago:20260412T100000
DTSTAMP:20260423T153348
CREATED:20221002T203137Z
LAST-MODIFIED:20260223T211712Z
UID:869-1775984400-1775988000@sheffieldmethodist.com
SUMMARY:Sunday School
DESCRIPTION:
URL:https://sheffieldmethodist.com/event/sunday-school-5/
END:VEVENT
BEGIN:VEVENT
DTSTART;TZID=America/Chicago:20260412T100000
DTEND;TZID=America/Chicago:20260412T110000
DTSTAMP:20260423T153348
CREATED:20221002T202618Z
LAST-MODIFIED:20260223T211157Z
UID:860-1775988000-1775991600@sheffieldmethodist.com
SUMMARY:Worship
DESCRIPTION:
URL:https://sheffieldmethodist.com/event/860/
END:VEVENT
BEGIN:VEVENT
DTSTART;TZID=America/Chicago:20260414T093000
DTEND;TZID=America/Chicago:20260414T103000
DTSTAMP:20260423T153348
CREATED:20221002T203449Z
LAST-MODIFIED:20260223T212942Z
UID:876-1776159000-1776162600@sheffieldmethodist.com
SUMMARY:Prayer Group
DESCRIPTION:
URL:https://sheffieldmethodist.com/event/prayer-group-5/
END:VEVENT
BEGIN:VEVENT
DTSTART;TZID=America/Chicago:20260415T173000
DTEND;TZID=America/Chicago:20260415T180000
DTSTAMP:20260423T153348
CREATED:20250305T135643Z
LAST-MODIFIED:20260223T212237Z
UID:1931-1776274200-1776276000@sheffieldmethodist.com
SUMMARY:Meal
DESCRIPTION:
URL:https://sheffieldmethodist.com/event/1931/
END:VEVENT
BEGIN:VEVENT
DTSTART;TZID=America/Chicago:20260415T180000
DTEND;TZID=America/Chicago:20260415T190000
DTSTAMP:20260423T153348
CREATED:20230404T130019Z
LAST-MODIFIED:20260223T213616Z
UID:1217-1776276000-1776279600@sheffieldmethodist.com
SUMMARY:Small Groups (all ages)
DESCRIPTION:
URL:https://sheffieldmethodist.com/event/small-groups-all-ages-4/
END:VEVENT
BEGIN:VEVENT
DTSTART;TZID=America/Chicago:20260415T190000
DTEND;TZID=America/Chicago:20260415T190000
DTSTAMP:20260423T153348
CREATED:20230216T210354Z
LAST-MODIFIED:20260223T214148Z
UID:1157-1776279600-1776279600@sheffieldmethodist.com
SUMMARY:Chancel Choir
DESCRIPTION:
URL:https://sheffieldmethodist.com/event/chancel-choir-7/
END:VEVENT
BEGIN:VEVENT
DTSTART;TZID=America/Chicago:20260417T000000
DTEND;TZID=America/Chicago:20260417T235959
DTSTAMP:20260423T153348
CREATED:20230220T021855Z
LAST-MODIFIED:20260223T214709Z
UID:1197-1776384000-1776470399@sheffieldmethodist.com
SUMMARY:Church Office Closed
DESCRIPTION:
URL:https://sheffieldmethodist.com/event/church-office-closed-4/
END:VEVENT
END:VCALENDAR