BEGIN:VCALENDAR
VERSION:2.0
PRODID:-//Sheffield Methodist Church - ECPv6.15.20//NONSGML v1.0//EN
CALSCALE:GREGORIAN
METHOD:PUBLISH
X-ORIGINAL-URL:https://sheffieldmethodist.com
X-WR-CALDESC:Events for Sheffield Methodist Church
REFRESH-INTERVAL;VALUE=DURATION:PT1H
X-Robots-Tag:noindex
X-PUBLISHED-TTL:PT1H
BEGIN:VTIMEZONE
TZID:America/Chicago
BEGIN:DAYLIGHT
TZOFFSETFROM:-0600
TZOFFSETTO:-0500
TZNAME:CDT
DTSTART:20250309T080000
END:DAYLIGHT
BEGIN:STANDARD
TZOFFSETFROM:-0500
TZOFFSETTO:-0600
TZNAME:CST
DTSTART:20251102T070000
END:STANDARD
BEGIN:DAYLIGHT
TZOFFSETFROM:-0600
TZOFFSETTO:-0500
TZNAME:CDT
DTSTART:20260308T080000
END:DAYLIGHT
BEGIN:STANDARD
TZOFFSETFROM:-0500
TZOFFSETTO:-0600
TZNAME:CST
DTSTART:20261101T070000
END:STANDARD
BEGIN:DAYLIGHT
TZOFFSETFROM:-0600
TZOFFSETTO:-0500
TZNAME:CDT
DTSTART:20270314T080000
END:DAYLIGHT
BEGIN:STANDARD
TZOFFSETFROM:-0500
TZOFFSETTO:-0600
TZNAME:CST
DTSTART:20271107T070000
END:STANDARD
END:VTIMEZONE
BEGIN:VEVENT
DTSTART;TZID=America/Chicago:20260524T090000
DTEND;TZID=America/Chicago:20260524T100000
DTSTAMP:20260423T124242
CREATED:20250305T140538Z
LAST-MODIFIED:20260223T211836Z
UID:1946-1779613200-1779616800@sheffieldmethodist.com
SUMMARY:Sunday School
DESCRIPTION:
URL:https://sheffieldmethodist.com/event/sunday-school-12/
END:VEVENT
BEGIN:VEVENT
DTSTART;TZID=America/Chicago:20260524T100000
DTEND;TZID=America/Chicago:20260524T110000
DTSTAMP:20260423T124242
CREATED:20250305T141344Z
LAST-MODIFIED:20260223T211328Z
UID:1956-1779616800-1779620400@sheffieldmethodist.com
SUMMARY:Worship
DESCRIPTION:
URL:https://sheffieldmethodist.com/event/worship-13/
END:VEVENT
END:VCALENDAR