BEGIN:VCALENDAR
VERSION:2.0
PRODID:-//Sheffield Methodist Church - ECPv6.15.20//NONSGML v1.0//EN
CALSCALE:GREGORIAN
METHOD:PUBLISH
X-ORIGINAL-URL:https://sheffieldmethodist.com
X-WR-CALDESC:Events for Sheffield Methodist Church
REFRESH-INTERVAL;VALUE=DURATION:PT1H
X-Robots-Tag:noindex
X-PUBLISHED-TTL:PT1H
BEGIN:VTIMEZONE
TZID:America/Chicago
BEGIN:DAYLIGHT
TZOFFSETFROM:-0600
TZOFFSETTO:-0500
TZNAME:CDT
DTSTART:20250309T080000
END:DAYLIGHT
BEGIN:STANDARD
TZOFFSETFROM:-0500
TZOFFSETTO:-0600
TZNAME:CST
DTSTART:20251102T070000
END:STANDARD
BEGIN:DAYLIGHT
TZOFFSETFROM:-0600
TZOFFSETTO:-0500
TZNAME:CDT
DTSTART:20260308T080000
END:DAYLIGHT
BEGIN:STANDARD
TZOFFSETFROM:-0500
TZOFFSETTO:-0600
TZNAME:CST
DTSTART:20261101T070000
END:STANDARD
BEGIN:DAYLIGHT
TZOFFSETFROM:-0600
TZOFFSETTO:-0500
TZNAME:CDT
DTSTART:20270314T080000
END:DAYLIGHT
BEGIN:STANDARD
TZOFFSETFROM:-0500
TZOFFSETTO:-0600
TZNAME:CST
DTSTART:20271107T070000
END:STANDARD
END:VTIMEZONE
BEGIN:VEVENT
DTSTART;TZID=America/Chicago:20260415T173000
DTEND;TZID=America/Chicago:20260415T180000
DTSTAMP:20260423T110535
CREATED:20250305T135643Z
LAST-MODIFIED:20260223T212237Z
UID:1931-1776274200-1776276000@sheffieldmethodist.com
SUMMARY:Meal
DESCRIPTION:
URL:https://sheffieldmethodist.com/event/1931/
END:VEVENT
BEGIN:VEVENT
DTSTART;TZID=America/Chicago:20260415T180000
DTEND;TZID=America/Chicago:20260415T190000
DTSTAMP:20260423T110535
CREATED:20230404T130019Z
LAST-MODIFIED:20260223T213616Z
UID:1217-1776276000-1776279600@sheffieldmethodist.com
SUMMARY:Small Groups (all ages)
DESCRIPTION:
URL:https://sheffieldmethodist.com/event/small-groups-all-ages-4/
END:VEVENT
BEGIN:VEVENT
DTSTART;TZID=America/Chicago:20260415T190000
DTEND;TZID=America/Chicago:20260415T190000
DTSTAMP:20260423T110535
CREATED:20230216T210354Z
LAST-MODIFIED:20260223T214148Z
UID:1157-1776279600-1776279600@sheffieldmethodist.com
SUMMARY:Chancel Choir
DESCRIPTION:
URL:https://sheffieldmethodist.com/event/chancel-choir-7/
END:VEVENT
END:VCALENDAR