BEGIN:VCALENDAR
VERSION:2.0
PRODID:-//Sheffield Methodist Church - ECPv6.15.20//NONSGML v1.0//EN
CALSCALE:GREGORIAN
METHOD:PUBLISH
X-ORIGINAL-URL:https://sheffieldmethodist.com
X-WR-CALDESC:Events for Sheffield Methodist Church
REFRESH-INTERVAL;VALUE=DURATION:PT1H
X-Robots-Tag:noindex
X-PUBLISHED-TTL:PT1H
BEGIN:VTIMEZONE
TZID:America/Chicago
BEGIN:DAYLIGHT
TZOFFSETFROM:-0600
TZOFFSETTO:-0500
TZNAME:CDT
DTSTART:20250309T080000
END:DAYLIGHT
BEGIN:STANDARD
TZOFFSETFROM:-0500
TZOFFSETTO:-0600
TZNAME:CST
DTSTART:20251102T070000
END:STANDARD
BEGIN:DAYLIGHT
TZOFFSETFROM:-0600
TZOFFSETTO:-0500
TZNAME:CDT
DTSTART:20260308T080000
END:DAYLIGHT
BEGIN:STANDARD
TZOFFSETFROM:-0500
TZOFFSETTO:-0600
TZNAME:CST
DTSTART:20261101T070000
END:STANDARD
BEGIN:DAYLIGHT
TZOFFSETFROM:-0600
TZOFFSETTO:-0500
TZNAME:CDT
DTSTART:20270314T080000
END:DAYLIGHT
BEGIN:STANDARD
TZOFFSETFROM:-0500
TZOFFSETTO:-0600
TZNAME:CST
DTSTART:20271107T070000
END:STANDARD
END:VTIMEZONE
BEGIN:VEVENT
DTSTART;TZID=America/Chicago:20260325T173000
DTEND;TZID=America/Chicago:20260325T180000
DTSTAMP:20260423T124246
CREATED:20230216T204815Z
LAST-MODIFIED:20260223T212138Z
UID:1141-1774459800-1774461600@sheffieldmethodist.com
SUMMARY:Meal
DESCRIPTION:
URL:https://sheffieldmethodist.com/event/meal-8/
END:VEVENT
BEGIN:VEVENT
DTSTART;TZID=America/Chicago:20260325T180000
DTEND;TZID=America/Chicago:20260325T190000
DTSTAMP:20260423T124246
CREATED:20230404T130217Z
LAST-MODIFIED:20260223T213507Z
UID:1225-1774461600-1774465200@sheffieldmethodist.com
SUMMARY:Small Groups (all ages)
DESCRIPTION:
URL:https://sheffieldmethodist.com/event/small-groups-all-ages-8/
END:VEVENT
BEGIN:VEVENT
DTSTART;TZID=America/Chicago:20260325T190000
DTEND;TZID=America/Chicago:20260325T190000
DTSTAMP:20260423T124246
CREATED:20230216T210457Z
LAST-MODIFIED:20260223T214040Z
UID:1161-1774465200-1774465200@sheffieldmethodist.com
SUMMARY:Chancel Choir
DESCRIPTION:
URL:https://sheffieldmethodist.com/event/chancel-choir-9/
END:VEVENT
END:VCALENDAR