BEGIN:VCALENDAR
VERSION:2.0
PRODID:-//Sheffield Methodist Church - ECPv6.15.20//NONSGML v1.0//EN
CALSCALE:GREGORIAN
METHOD:PUBLISH
X-ORIGINAL-URL:https://sheffieldmethodist.com
X-WR-CALDESC:Events for Sheffield Methodist Church
REFRESH-INTERVAL;VALUE=DURATION:PT1H
X-Robots-Tag:noindex
X-PUBLISHED-TTL:PT1H
BEGIN:VTIMEZONE
TZID:America/Chicago
BEGIN:DAYLIGHT
TZOFFSETFROM:-0600
TZOFFSETTO:-0500
TZNAME:CDT
DTSTART:20250309T080000
END:DAYLIGHT
BEGIN:STANDARD
TZOFFSETFROM:-0500
TZOFFSETTO:-0600
TZNAME:CST
DTSTART:20251102T070000
END:STANDARD
BEGIN:DAYLIGHT
TZOFFSETFROM:-0600
TZOFFSETTO:-0500
TZNAME:CDT
DTSTART:20260308T080000
END:DAYLIGHT
BEGIN:STANDARD
TZOFFSETFROM:-0500
TZOFFSETTO:-0600
TZNAME:CST
DTSTART:20261101T070000
END:STANDARD
BEGIN:DAYLIGHT
TZOFFSETFROM:-0600
TZOFFSETTO:-0500
TZNAME:CDT
DTSTART:20270314T080000
END:DAYLIGHT
BEGIN:STANDARD
TZOFFSETFROM:-0500
TZOFFSETTO:-0600
TZNAME:CST
DTSTART:20271107T070000
END:STANDARD
END:VTIMEZONE
BEGIN:VEVENT
DTSTART;TZID=America/Chicago:20260318T173000
DTEND;TZID=America/Chicago:20260318T180000
DTSTAMP:20260423T124245
CREATED:20230216T204835Z
LAST-MODIFIED:20260223T212123Z
UID:1143-1773855000-1773856800@sheffieldmethodist.com
SUMMARY:Meal
DESCRIPTION:
URL:https://sheffieldmethodist.com/event/meal-9/
END:VEVENT
BEGIN:VEVENT
DTSTART;TZID=America/Chicago:20260318T180000
DTEND;TZID=America/Chicago:20260318T190000
DTSTAMP:20260423T124245
CREATED:20240502T173134Z
LAST-MODIFIED:20260223T213453Z
UID:1647-1773856800-1773860400@sheffieldmethodist.com
SUMMARY:Small Groups (all ages)
DESCRIPTION:
URL:https://sheffieldmethodist.com/event/small-groups-all-ages-2/
END:VEVENT
BEGIN:VEVENT
DTSTART;TZID=America/Chicago:20260318T190000
DTEND;TZID=America/Chicago:20260318T190000
DTSTAMP:20260423T124245
CREATED:20250305T141740Z
LAST-MODIFIED:20260223T214026Z
UID:1958-1773860400-1773860400@sheffieldmethodist.com
SUMMARY:Chancel Choir
DESCRIPTION:
URL:https://sheffieldmethodist.com/event/chancel-choir-4/
END:VEVENT
END:VCALENDAR