BEGIN:VCALENDAR
VERSION:2.0
PRODID:-//Sheffield Methodist Church - ECPv6.15.20//NONSGML v1.0//EN
CALSCALE:GREGORIAN
METHOD:PUBLISH
X-ORIGINAL-URL:https://sheffieldmethodist.com
X-WR-CALDESC:Events for Sheffield Methodist Church
REFRESH-INTERVAL;VALUE=DURATION:PT1H
X-Robots-Tag:noindex
X-PUBLISHED-TTL:PT1H
BEGIN:VTIMEZONE
TZID:America/Chicago
BEGIN:DAYLIGHT
TZOFFSETFROM:-0600
TZOFFSETTO:-0500
TZNAME:CDT
DTSTART:20250309T080000
END:DAYLIGHT
BEGIN:STANDARD
TZOFFSETFROM:-0500
TZOFFSETTO:-0600
TZNAME:CST
DTSTART:20251102T070000
END:STANDARD
BEGIN:DAYLIGHT
TZOFFSETFROM:-0600
TZOFFSETTO:-0500
TZNAME:CDT
DTSTART:20260308T080000
END:DAYLIGHT
BEGIN:STANDARD
TZOFFSETFROM:-0500
TZOFFSETTO:-0600
TZNAME:CST
DTSTART:20261101T070000
END:STANDARD
BEGIN:DAYLIGHT
TZOFFSETFROM:-0600
TZOFFSETTO:-0500
TZNAME:CDT
DTSTART:20270314T080000
END:DAYLIGHT
BEGIN:STANDARD
TZOFFSETFROM:-0500
TZOFFSETTO:-0600
TZNAME:CST
DTSTART:20271107T070000
END:STANDARD
END:VTIMEZONE
BEGIN:VEVENT
DTSTART;TZID=America/Chicago:20260304T173000
DTEND;TZID=America/Chicago:20260304T180000
DTSTAMP:20260423T123615
CREATED:20240801T182234Z
LAST-MODIFIED:20260223T212055Z
UID:1733-1772645400-1772647200@sheffieldmethodist.com
SUMMARY:Meal
DESCRIPTION:
URL:https://sheffieldmethodist.com/event/meal-3/
END:VEVENT
BEGIN:VEVENT
DTSTART;TZID=America/Chicago:20260304T180000
DTEND;TZID=America/Chicago:20260304T190000
DTSTAMP:20260423T123615
CREATED:20250529T200630Z
LAST-MODIFIED:20260223T213421Z
UID:2028-1772647200-1772650800@sheffieldmethodist.com
SUMMARY:Small Groups (all ages)
DESCRIPTION:
URL:https://sheffieldmethodist.com/event/small-groups-all-ages-12/
END:VEVENT
BEGIN:VEVENT
DTSTART;TZID=America/Chicago:20260304T190000
DTEND;TZID=America/Chicago:20260304T190000
DTSTAMP:20260423T123615
CREATED:20250305T141931Z
LAST-MODIFIED:20260223T213957Z
UID:1962-1772650800-1772650800@sheffieldmethodist.com
SUMMARY:Chancel Choir
DESCRIPTION:
URL:https://sheffieldmethodist.com/event/chancel-choir-11/
END:VEVENT
END:VCALENDAR